{"text_format":"1","workbook":"xlsx","n_sheets":3,"sheets":["Sheet1","Sheet2","Sheet3"],"not_rendered":{"charts":2,"images":8,"macros":1,"external_links":0,"defined_names":3,"comments":1,"pivot_tables":0},"unopened":[],"bounds":{"document_bytes":16777216,"sheet_cells":100000,"rows_first":2000,"rows_last":500,"rows_between":2000,"halvings":0,"cell_chars":16384,"cell_head_chars":4096},"cells_cut":0,"cells_raw":0,"read":"whole","date_system":"1900"}

{"sheet":"Sheet1","index":0,"n_rows":400,"n_cols":14,"rows_kept":400,"cut":false,"hidden":false,"merged":[[392,7,392,10],[393,7,393,10],[394,7,394,10],[395,7,395,10],[396,7,396,10],[397,7,397,10],[398,7,398,10],[399,7,399,10],[32,7,32,10],[33,7,33,10],[34,7,34,10],[35,7,35,10],[36,7,36,10],[37,7,37,10],[38,7,38,10],[39,7,39,10],[40,7,40,10],[41,7,41,10],[42,7,42,10],[43,7,43,10],[44,7,44,10],[45,7,45,10],[46,7,46,10],[47,7,47,10],[383,7,383,10],[384,7,384,10],[385,7,385,10],[386,7,386,10],[387,7,387,10],[388,7,388,10],[389,7,389,10],[390,7,390,10],[391,7,391,10],[374,7,374,10],[375,7,375,10],[376,7,376,10],[377,7,377,10],[378,7,378,10],[379,7,379,10],[380,7,380,10],[381,7,381,10],[382,7,382,10],[365,7,365,10],[366,7,366,10],[367,7,367,10],[368,7,368,10],[369,7,369,10],[370,7,370,10],[371,7,371,10],[372,7,372,10],[373,7,373,10],[356,7,356,10],[357,7,357,10],[358,7,358,10],[359,7,359,10],[360,7,360,10],[361,7,361,10],[362,7,362,10],[363,7,363,10],[364,7,364,10],[347,7,347,10],[348,7,348,10],[349,7,349,10],[350,7,350,10],[351,7,351,10],[352,7,352,10],[353,7,353,10],[354,7,354,10],[355,7,355,10],[338,7,338,10],[339,7,339,10],[340,7,340,10],[341,7,341,10],[342,7,342,10],[343,7,343,10],[344,7,344,10],[345,7,345,10],[346,7,346,10],[329,7,329,10],[330,7,330,10],[331,7,331,10],[332,7,332,10],[333,7,333,10],[334,7,334,10],[335,7,335,10],[336,7,336,10],[337,7,337,10],[320,7,320,10],[321,7,321,10],[322,7,322,10],[323,7,323,10],[324,7,324,10],[325,7,325,10],[326,7,326,10],[327,7,327,10],[328,7,328,10],[311,7,311,10],[312,7,312,10],[313,7,313,10],[314,7,314,10],[315,7,315,10],[316,7,316,10],[317,7,317,10],[318,7,318,10],[319,7,319,10],[302,7,302,10],[303,7,303,10],[304,7,304,10],[305,7,305,10],[306,7,306,10],[307,7,307,10],[308,7,308,10],[309,7,309,10],[310,7,310,10],[293,7,293,10],[294,7,294,10],[295,7,295,10],[296,7,296,10],[297,7,297,10],[298,7,298,10],[299,7,299,10],[300,7,300,10],[301,7,301,10],[284,7,284,10],[285,7,285,10],[286,7,286,10],[287,7,287,10],[288,7,288,10],[289,7,289,10],[290,7,290,10],[291,7,291,10],[292,7,292,10],[275,7,275,10],[276,7,276,10],[277,7,277,10],[278,7,278,10],[279,7,279,10],[280,7,280,10],[281,7,281,10],[282,7,282,10],[283,7,283,10],[266,7,266,10],[267,7,267,10],[268,7,268,10],[269,7,269,10],[270,7,270,10],[271,7,271,10],[272,7,272,10],[273,7,273,10],[274,7,274,10],[257,7,257,10],[258,7,258,10],[259,7,259,10],[260,7,260,10],[261,7,261,10],[262,7,262,10],[263,7,263,10],[264,7,264,10],[265,7,265,10],[248,7,248,10],[249,7,249,10],[250,7,250,10],[251,7,251,10],[252,7,252,10],[253,7,253,10],[254,7,254,10],[255,7,255,10],[256,7,256,10],[239,7,239,10],[240,7,240,10],[241,7,241,10],[242,7,242,10],[243,7,243,10],[244,7,244,10],[245,7,245,10],[246,7,246,10],[247,7,247,10],[230,7,230,10],[231,7,231,10],[232,7,232,10],[233,7,233,10],[234,7,234,10],[235,7,235,10],[236,7,236,10],[237,7,237,10],[238,7,238,10],[221,7,221,10],[222,7,222,10],[223,7,223,10],[224,7,224,10],[225,7,225,10],[226,7,226,10],[227,7,227,10],[228,7,228,10],[229,7,229,10],[212,7,212,10],[213,7,213,10],[214,7,214,10],[215,7,215,10],[216,7,216,10],[217,7,217,10],[218,7,218,10],[219,7,219,10],[220,7,220,10],[203,7,203,10],[204,7,204,10],[205,7,205,10],[206,7,206,10],[207,7,207,10],[208,7,208,10],[209,7,209,10],[210,7,210,10],[211,7,211,10],[194,7,194,10],[195,7,195,10],[196,7,196,10],[197,7,197,10],[198,7,198,10],[199,7,199,10],[200,7,200,10],[201,7,201,10],[202,7,202,10],[185,7,185,10],[186,7,186,10],[187,7,187,10],[188,7,188,10],[189,7,189,10],[190,7,190,10],[191,7,191,10],[192,7,192,10],[193,7,193,10],[176,7,176,10],[177,7,177,10],[178,7,178,10],[179,7,179,10],[180,7,180,10],[181,7,181,10],[182,7,182,10],[183,7,183,10],[184,7,184,10],[167,7,167,10],[168,7,168,10],[169,7,169,10],[170,7,170,10],[171,7,171,10],[172,7,172,10],[173,7,173,10],[174,7,174,10],[175,7,175,10],[158,7,158,10],[159,7,159,10],[160,7,160,10],[161,7,161,10],[162,7,162,10],[163,7,163,10],[164,7,164,10],[165,7,165,10],[166,7,166,10],[149,7,149,10],[150,7,150,10],[151,7,151,10],[152,7,152,10],[153,7,153,10],[154,7,154,10],[155,7,155,10],[156,7,156,10],[157,7,157,10],[140,7,140,10],[141,7,141,10],[142,7,142,10],[143,7,143,10],[144,7,144,10],[145,7,145,10],[146,7,146,10],[147,7,147,10],[148,7,148,10],[131,7,131,10],[132,7,132,10],[133,7,133,10],[134,7,134,10],[135,7,135,10],[136,7,136,10],[137,7,137,10],[138,7,138,10],[139,7,139,10],[122,7,122,10],[123,7,123,10],[124,7,124,10],[125,7,125,10],[126,7,126,10],[127,7,127,10],[128,7,128,10],[129,7,129,10],[130,7,130,10],[113,7,113,10],[114,7,114,10],[115,7,115,10],[116,7,116,10],[117,7,117,10],[118,7,118,10],[119,7,119,10],[120,7,120,10],[121,7,121,10],[104,7,104,10],[105,7,105,10],[106,7,106,10],[107,7,107,10],[108,7,108,10],[109,7,109,10],[110,7,110,10],[111,7,111,10],[112,7,112,10],[95,7,95,10],[96,7,96,10],[97,7,97,10],[98,7,98,10],[99,7,99,10],[100,7,100,10],[101,7,101,10],[102,7,102,10],[103,7,103,10],[86,7,86,10],[87,7,87,10],[88,7,88,10],[89,7,89,10],[90,7,90,10],[91,7,91,10],[92,7,92,10],[93,7,93,10],[94,7,94,10],[77,7,77,10],[78,7,78,10],[79,7,79,10],[80,7,80,10],[81,7,81,10],[82,7,82,10],[83,7,83,10],[84,7,84,10],[85,7,85,10],[68,7,68,10],[69,7,69,10],[70,7,70,10],[71,7,71,10],[72,7,72,10],[73,7,73,10],[74,7,74,10],[75,7,75,10],[76,7,76,10],[59,7,59,10],[60,7,60,10],[61,7,61,10],[62,7,62,10],[63,7,63,10],[64,7,64,10],[65,7,65,10],[66,7,66,10],[67,7,67,10],[50,7,50,10],[51,7,51,10],[52,7,52,10],[53,7,53,10],[54,7,54,10],[55,7,55,10],[56,7,56,10],[57,7,57,10],[58,7,58,10],[48,7,48,10],[49,7,49,10],[24,10,28,10],[5,11,6,11],[5,14,6,14],[5,13,6,13],[5,10,6,10],[1,12,12,12],[7,6,7,7],[8,6,9,7],[1,13,1,14],[1,10,1,11],[0,8,28,9],[0,10,0,14],[2,13,3,13],[4,6,4,7],[1,6,1,7],[6,6,6,7],[2,14,3,14],[22,6,23,7],[22,10,23,10],[19,10,21,10],[13,10,13,14],[0,5,30,5],[10,6,10,7],[11,6,12,7],[13,6,13,7],[20,6,20,7],[21,6,21,7],[14,6,14,7],[15,6,16,7],[17,6,17,7],[18,6,18,7],[19,6,19,7],[25,6,25,7],[26,6,26,7],[27,6,27,7],[28,6,28,7],[5,6,5,7],[3,6,3,7],[2,6,2,7],[449,0,449,2],[449,3,449,4],[450,0,450,2],[450,3,450,4],[446,0,446,2],[446,3,446,4],[447,0,447,2],[447,3,447,4],[448,0,448,2],[448,3,448,4],[443,0,443,2],[443,3,443,4],[444,0,444,2],[444,3,444,4],[445,0,445,2],[445,3,445,4],[440,0,440,2],[440,3,440,4],[441,0,441,2],[441,3,441,4],[442,0,442,2],[442,3,442,4],[437,0,437,2],[437,3,437,4],[438,0,438,2],[438,3,438,4],[439,0,439,2],[439,3,439,4],[434,0,434,2],[434,3,434,4],[435,0,435,2],[435,3,435,4],[436,0,436,2],[436,3,436,4],[431,0,431,2],[431,3,431,4],[432,0,432,2],[432,3,432,4],[433,0,433,2],[433,3,433,4],[428,0,428,2],[428,3,428,4],[429,0,429,2],[429,3,429,4],[430,0,430,2],[430,3,430,4],[425,0,425,2],[425,3,425,4],[426,0,426,2],[426,3,426,4],[427,0,427,2],[427,3,427,4],[422,0,422,2],[422,3,422,4],[423,0,423,2],[423,3,423,4],[424,0,424,2],[424,3,424,4],[419,0,419,2],[419,3,419,4],[420,0,420,2],[420,3,420,4],[421,0,421,2],[421,3,421,4],[416,0,416,2],[416,3,416,4],[417,0,417,2],[417,3,417,4],[418,0,418,2],[418,3,418,4],[413,0,413,2],[413,3,413,4],[414,0,414,2],[414,3,414,4],[415,0,415,2],[415,3,415,4],[410,0,410,2],[410,3,410,4],[411,0,411,2],[411,3,411,4],[412,0,412,2],[412,3,412,4],[407,0,407,2],[407,3,407,4],[408,0,408,2],[408,3,408,4],[409,0,409,2],[409,3,409,4],[404,0,404,2],[404,3,404,4],[405,0,405,2],[405,3,405,4],[406,0,406,2],[406,3,406,4],[401,0,401,2],[401,3,401,4],[402,0,402,2],[402,3,402,4],[403,0,403,2],[403,3,403,4],[398,3,398,4],[399,3,399,4],[400,3,400,4],[395,3,395,4],[396,3,396,4],[397,3,397,4],[392,3,392,4],[393,3,393,4],[394,3,394,4],[389,3,389,4],[390,3,390,4],[391,3,391,4],[386,3,386,4],[387,3,387,4],[388,3,388,4],[383,3,383,4],[384,3,384,4],[385,3,385,4],[380,3,380,4],[381,3,381,4],[382,3,382,4],[377,3,377,4],[378,3,378,4],[379,3,379,4],[374,3,374,4],[375,3,375,4],[376,3,376,4],[371,3,371,4],[372,3,372,4],[373,3,373,4],[368,3,368,4],[369,3,369,4],[370,3,370,4],[365,3,365,4],[366,3,366,4],[367,3,367,4],[362,3,362,4],[363,3,363,4],[364,3,364,4],[359,3,359,4],[360,3,360,4],[361,3,361,4],[356,3,356,4],[357,3,357,4],[358,3,358,4],[353,3,353,4],[354,3,354,4],[355,3,355,4],[350,3,350,4],[351,3,351,4],[352,3,352,4],[347,3,347,4],[348,3,348,4],[349,3,349,4],[344,3,344,4],[345,3,345,4],[346,3,346,4],[341,3,341,4],[342,3,342,4],[343,3,343,4],[338,3,338,4],[339,3,339,4],[340,3,340,4],[335,3,335,4],[336,3,336,4],[337,3,337,4],[332,3,332,4],[333,3,333,4],[334,3,334,4],[329,3,329,4],[330,3,330,4],[331,3,331,4],[326,3,326,4],[327,3,327,4],[328,3,328,4],[323,3,323,4],[324,3,324,4],[325,3,325,4],[320,3,320,4],[321,3,321,4],[322,3,322,4],[317,3,317,4],[318,3,318,4],[319,3,319,4],[314,3,314,4],[315,3,315,4],[316,3,316,4],[311,3,311,4],[312,3,312,4],[313,3,313,4],[308,3,308,4],[309,3,309,4],[310,3,310,4],[305,3,305,4],[306,3,306,4],[307,3,307,4],[302,3,302,4],[303,3,303,4],[304,3,304,4],[299,3,299,4],[300,3,300,4],[301,3,301,4],[296,3,296,4],[297,3,297,4],[298,3,298,4],[293,3,293,4],[294,3,294,4],[295,3,295,4],[290,3,290,4],[291,3,291,4],[292,3,292,4],[287,3,287,4],[288,3,288,4],[289,3,289,4],[284,3,284,4],[285,3,285,4],[286,3,286,4],[281,3,281,4],[282,3,282,4],[283,3,283,4],[278,3,278,4],[279,3,279,4],[280,3,280,4],[275,3,275,4],[276,3,276,4],[277,3,277,4],[272,3,272,4],[273,3,273,4],[274,3,274,4],[269,3,269,4],[270,3,270,4],[271,3,271,4],[266,3,266,4],[267,3,267,4],[268,3,268,4],[263,3,263,4],[264,3,264,4],[265,3,265,4],[260,3,260,4],[261,3,261,4],[262,3,262,4],[257,3,257,4],[258,3,258,4],[259,3,259,4],[254,3,254,4],[255,3,255,4],[256,3,256,4],[251,3,251,4],[252,3,252,4],[253,3,253,4],[248,3,248,4],[249,3,249,4],[250,3,250,4],[245,3,245,4],[246,3,246,4],[247,3,247,4],[242,3,242,4],[243,3,243,4],[244,3,244,4],[239,3,239,4],[240,3,240,4],[241,3,241,4],[236,3,236,4],[237,3,237,4],[238,3,238,4],[233,3,233,4],[234,3,234,4],[235,3,235,4],[230,3,230,4],[231,3,231,4],[232,3,232,4],[227,3,227,4],[228,3,228,4],[229,3,229,4],[224,3,224,4],[225,3,225,4],[226,3,226,4],[221,3,221,4],[222,3,222,4],[223,3,223,4],[218,3,218,4],[219,3,219,4],[220,3,220,4],[215,3,215,4],[216,3,216,4],[217,3,217,4],[212,3,212,4],[213,3,213,4],[214,3,214,4],[209,3,209,4],[210,3,210,4],[211,3,211,4],[206,3,206,4],[207,3,207,4],[208,3,208,4],[203,3,203,4],[204,3,204,4],[205,3,205,4],[200,3,200,4],[201,3,201,4],[202,3,202,4],[197,3,197,4],[198,3,198,4],[199,3,199,4],[194,3,194,4],[195,3,195,4],[196,3,196,4],[191,3,191,4],[192,3,192,4],[193,3,193,4],[188,3,188,4],[189,3,189,4],[190,3,190,4],[185,3,185,4],[186,3,186,4],[187,3,187,4],[182,3,182,4],[183,3,183,4],[184,3,184,4],[179,3,179,4],[180,3,180,4],[181,3,181,4],[176,3,176,4],[177,3,177,4],[178,3,178,4],[173,3,173,4],[174,3,174,4],[175,3,175,4],[170,3,170,4],[171,3,171,4],[172,3,172,4],[167,3,167,4],[168,3,168,4],[169,3,169,4],[164,3,164,4],[165,3,165,4],[166,3,166,4],[161,3,161,4],[162,3,162,4],[163,3,163,4],[158,3,158,4],[159,3,159,4],[160,3,160,4],[155,3,155,4],[156,3,156,4],[157,3,157,4],[152,3,152,4],[153,3,153,4],[154,3,154,4],[149,3,149,4],[150,3,150,4],[151,3,151,4],[146,3,146,4],[147,3,147,4],[148,3,148,4],[143,3,143,4],[144,3,144,4],[145,3,145,4],[140,3,140,4],[141,3,141,4],[142,3,142,4],[137,3,137,4],[138,3,138,4],[139,3,139,4],[134,3,134,4],[135,3,135,4],[136,3,136,4],[131,3,131,4],[132,3,132,4],[133,3,133,4],[128,3,128,4],[129,3,129,4],[130,3,130,4],[125,3,125,4],[126,3,126,4],[127,3,127,4],[122,3,122,4],[123,3,123,4],[124,3,124,4],[119,3,119,4],[120,3,120,4],[121,3,121,4],[116,3,116,4],[117,3,117,4],[118,3,118,4],[113,3,113,4],[114,3,114,4],[115,3,115,4],[110,3,110,4],[111,3,111,4],[112,3,112,4],[107,3,107,4],[108,3,108,4],[109,3,109,4],[104,3,104,4],[105,3,105,4],[106,3,106,4],[101,3,101,4],[102,3,102,4],[103,3,103,4],[98,3,98,4],[99,3,99,4],[100,3,100,4],[95,3,95,4],[96,3,96,4],[97,3,97,4],[92,3,92,4],[93,3,93,4],[94,3,94,4],[89,3,89,4],[90,3,90,4],[91,3,91,4],[86,3,86,4],[87,3,87,4],[88,3,88,4],[83,3,83,4],[84,3,84,4],[85,3,85,4],[80,3,80,4],[81,3,81,4],[82,3,82,4],[77,3,77,4],[78,3,78,4],[79,3,79,4],[74,3,74,4],[75,3,75,4],[76,3,76,4],[71,3,71,4],[72,3,72,4],[73,3,73,4],[68,3,68,4],[69,3,69,4],[70,3,70,4],[65,3,65,4],[66,3,66,4],[67,3,67,4],[62,3,62,4],[63,3,63,4],[64,3,64,4],[59,3,59,4],[60,3,60,4],[61,3,61,4],[56,3,56,4],[57,3,57,4],[58,3,58,4],[53,3,53,4],[54,3,54,4],[55,3,55,4],[50,3,50,4],[51,3,51,4],[52,3,52,4],[47,3,47,4],[48,3,48,4],[49,3,49,4],[44,3,44,4],[45,3,45,4],[46,3,46,4],[41,3,41,4],[42,3,42,4],[43,3,43,4],[38,3,38,4],[39,3,39,4],[40,3,40,4],[35,3,35,4],[36,3,36,4],[37,3,37,4],[32,3,32,4],[33,3,33,4],[34,3,34,4],[29,0,29,2],[29,3,29,4],[30,0,30,2],[30,3,30,4],[31,0,31,2],[31,3,31,4],[26,0,26,2],[26,3,26,4],[27,0,27,2],[27,3,27,4],[28,0,28,2],[28,3,28,4],[23,0,23,2],[23,3,23,4],[24,0,24,2],[24,3,24,4],[25,0,25,2],[25,3,25,4],[19,3,19,4],[2,3,2,4],[3,3,3,4],[9,2,9,3],[4,3,4,4],[5,3,5,4],[20,3,20,4],[14,3,14,4],[7,0,7,4],[8,2,8,3],[8,0,8,1],[15,0,15,2],[16,0,16,2],[17,0,17,2],[18,0,18,2],[20,0,20,2],[18,3,18,4],[10,2,10,3],[12,2,12,3],[14,13,22,13],[14,11,22,11],[14,12,22,12],[0,0,0,4],[14,0,14,2],[13,0,13,4],[1,3,1,4],[29,7,29,9],[15,3,15,4],[16,3,16,4],[17,3,17,4],[1,0,1,2],[2,0,2,2],[4,0,4,2],[5,1,5,2],[10,0,10,1],[3,0,3,2],[9,0,9,1],[6,0,6,4],[21,0,21,4],[22,0,22,2],[22,3,22,4],[19,0,19,2]]}
[]
[null,null,null,"السوق :",null,null,"السهم الممتنع"]
[null,null,null,{"$f":"IF(A2=\"أسهم\",\"<------  الشركة\",IF(A2=\"فوركس\",\"<------  الزوج\",IF(A2=\"كريبتو\",\"<------  العملة\",\"الرمز:\")))","v":"الرمز:"},null,null,"شرح الملف",null,null,null,{"$f":"IF(K1<>\"\",C9,\"\")","v":""},null,null,{"$f":"IF(K1<>\"\",IF(G9<>\"\",G9,\"لم يتم تحديد الاستراتيجية\"),\"\")","v":""}]
[null,null,null,"الفريم:",null,null,"اختبارات القناة",null,null,null,{"$f":"IF(K1<>\"\",E9,\"\")","v":""}]
[10000,null,null,"راس المال:",null,null,"الإختبار نسخة الويب",null,null,null,{"$f":"IF(K1<>\"\",A9,\"\")","v":""},null,null,{"$f":"IF(K1<>\"\",IF(A2<>\"\",A2,\"حدد السوق>\"),\"\")","v":""}]
[2,":1",null,"المخاطرة للعائد:",null,null,"حسابات التواصل الاجتماعي",null,null,null,3,null,null,{"$f":"IF(K1<>\"\",IF(A3<>\"\",A3,\"حدد الرمز>\"),\"\")","v":""}]
[]
["رابحة              عدد الصفقات              خاسرة",null,null,null,null,null,"وصف الاستراتيجية",null,null,null,3,null,null,{"$f":"IF(K1<>\"\",IF(A4<>\"\",A4,\"حدد الفريم>\"),\"\")","v":""}]
[{"$f":"COUNTIF(A33:A400,\"<0\")","v":0},null,{"$f":"COUNT(A33:A400)","v":0},null,{"$f":"COUNTIF(A33:A400,\">0\")","v":0},null,null,null,null,null,{"$f":"IF(K1<>\"\",A18,\"\")","v":""},null,null,{"$f":"IF(K1<>\"\",A5,\"\")","v":""}]
["وقف الخسارة",null,null,null,"الربح",null,null,null,null,null,{"$f":"IF(K1<>\"\",A19,\"\")","v":""},null,null,{"$f":"IF(K1<>\"\",IF(A6=\"X\",G25,A6&B6),\"\")","v":""}]
[-100,null,null,null,{"$f":"IF(A6=\"X\",-1*A11*C12,-1*A11*A6)","v":200},null,"نسبة المخاطرة",null,null,null,{"$f":"IF(K1<>\"\",A20,\"\")","v":""},null,null,{"$f":"IF(K2<>\"\",G12,\"\")","v":""}]
[null,null,null,null,null,null,{"$f":"-A11/A5","v":0.01},null,null,null,{"$f":"IF(K1<>\"\",A21,\"\")","v":""},null,null,{"$f":"IF(K3<>\"\",IF(G29<>\"\",G30,\"حدد التواريخ>\"),\"\")","v":""}]
[null,null,null,null,null,null,null,null,null,null,{"$f":"IF(K1<>\"\",G16,\"\")","v":""},null,null,{"$f":"IF(K3<>\"\",IF(G19<>\"\",G19,\"حدد الدخول>\"),\"\")","v":""}]
[]
[3,null,null,"اقصى مرات ربح متوالي",null,null,"نسبة نجاح الاستراتيجية",null,null,null,{"$f":"IF(OR(G1=1, A6=\"X\"),IF(K1<>\"\",\"متوسط الصفقات الرابحة\",\"\"),\"\")","v":""}]
[3,null,null,"اقصى مرات خسارة توالي",null,null,{"$f":"IFERROR(E9/C9,\"لايوجد بيانات\")","v":"لايوجد بيانات"},null,null,null,{"$f":"IF(K15<>\"\",SUMIF(A33:A400,\">0\",A33:A400)/E9,\"\")","v":""}]
[{"$f":"A5","v":10000},null,null,"الحساب الابتدائي",null,null,null,null,null,null,{"$f":"IF(K15<>\"\",\"متوسط الصفقات الخاسرة\",\"\")","v":""}]
[{"$f":"A17+SUM(A33:A400)","v":10000},null,null,{"$f":"IF(G1=\"\",\"الحساب الحالي(غير تراكمي)\",\"الحساب الحالي(تراكمي)\")","v":"الحساب الحالي(غير تراكمي)"},null,null,"نوع الدخول",null,null,null,{"$f":"IF(K15<>\"\",SUMIF(A33:A400,\"<0\",A33:A400)/A9,\"\")","v":""}]
[{"$f":"A18-A17","v":0},null,null,"الربح|الخسارة"]
[{"$f":"A19/A17","v":0},null,null,"نسبة الربح|الخسارة",null,null,"ملاحظات",null,null,null,"يجب تفعيل \"الماكرو\" للتمكن من الاستفادة من جميع خصائص الملف"]
[{"$f":"MIN(G32:G400)","v":0},null,null,"نسبة التراجع القصوى"]
[]
[null,null,null,null,null,null,{"$f":"IF(A6<>\"X\",\"نسبة المخاطرة للعائد ثابتة\",\"نسبة المخاطرة للعائد الإجمالية لجميع الصفقات\")","v":"نسبة المخاطرة للعائد ثابتة"},null,null,null,"للحصول على نسبة نجاح أكثر دقة يجب اختبار الاستراتيجية على الأقل 100 صفقة"]
[]
[null,null,null,null,null,null,{"$f":"IF(A6=\"X\",IF(C9<>0,SUM(C33:C400)/COUNT(A33:A400),\"لايوجد بيانات\"),A6)","v":2},":1",null,null,"التعديل على الملف يؤثر على أدائه وقد لايعمل بصورة جيدة ,لا انصح بأي إضافة أو حذف لأي عنصر في الملف خصوصا اثناء الاختبار,تأكد من حفظ نسخة من عملك في حال أردت التعديل عليه"]
[null,null,null,null,null,null,"تاريخ أول صفقة"]
[]
[null,null,null,null,null,null,"تاريخ آخر صفقة"]
[]
[null,null,null,null,null,null,{"$f":"G29-G27","v":0},"مدة الاختبار",null,null,"لاتنسونا من صالح دعائكم"]
[]
["الصفقات",null,null,{"$f":"A17","v":10000},null,{"$f":"COUNT(D32:D400)","v":1},{"$f":"IF(D32<>\"\",MIN(D32-MAX($D$32:D32))/MAX($D$32:D32),\"\")","v":0}]
[null,{"$f":"IF(A33<>\"\",B32+1,\"\")","v":""},null,null,null,null,{"$f":"IF(D33<>\"\",MIN(D33-MAX($D$32:D33))/MAX($D$32:D33),\"\")","v":""}]
[null,{"$f":"IF(A34<>\"\",B33+1,\"\")","v":""},null,null,null,null,{"$f":"IF(D34<>\"\",MIN(D34-MAX($D$32:D34))/MAX($D$32:D34),\"\")","v":""}]
[null,"",null,null,null,null,{"$f":"IF(D35<>\"\",MIN(D35-MAX($D$32:D35))/MAX($D$32:D35),\"\")","v":""}]
[null,"",null,null,null,null,{"$f":"IF(D36<>\"\",MIN(D36-MAX($D$32:D36))/MAX($D$32:D36),\"\")","v":""}]
[null,"",null,null,null,null,{"$f":"IF(D37<>\"\",MIN(D37-MAX($D$32:D37))/MAX($D$32:D37),\"\")","v":""}]
[null,"",null,null,null,null,{"$f":"IF(D38<>\"\",MIN(D38-MAX($D$32:D38))/MAX($D$32:D38),\"\")","v":""}]
[null,"",null,null,null,null,{"$f":"IF(D39<>\"\",MIN(D39-MAX($D$32:D39))/MAX($D$32:D39),\"\")","v":""}]
[null,"",null,null,null,null,{"$f":"IF(D40<>\"\",MIN(D40-MAX($D$32:D40))/MAX($D$32:D40),\"\")","v":""}]
[null,"",null,null,null,null,{"$f":"IF(D41<>\"\",MIN(D41-MAX($D$32:D41))/MAX($D$32:D41),\"\")","v":""}]
[null,"",null,null,null,null,{"$f":"IF(D42<>\"\",MIN(D42-MAX($D$32:D42))/MAX($D$32:D42),\"\")","v":""}]
[null,"",null,null,null,null,{"$f":"IF(D43<>\"\",MIN(D43-MAX($D$32:D43))/MAX($D$32:D43),\"\")","v":""}]
[null,"",null,null,null,null,{"$f":"IF(D44<>\"\",MIN(D44-MAX($D$32:D44))/MAX($D$32:D44),\"\")","v":""}]
[null,"",null,null,null,null,{"$f":"IF(D45<>\"\",MIN(D45-MAX($D$32:D45))/MAX($D$32:D45),\"\")","v":""}]
[null,"",null,null,null,null,{"$f":"IF(D46<>\"\",MIN(D46-MAX($D$32:D46))/MAX($D$32:D46),\"\")","v":""}]
[null,"",null,null,null,null,{"$f":"IF(D47<>\"\",MIN(D47-MAX($D$32:D47))/MAX($D$32:D47),\"\")","v":""}]
[null,"",null,null,null,null,{"$f":"IF(D48<>\"\",MIN(D48-MAX($D$32:D48))/MAX($D$32:D48),\"\")","v":""}]
[null,"",null,null,null,null,{"$f":"IF(D49<>\"\",MIN(D49-MAX($D$32:D49))/MAX($D$32:D49),\"\")","v":""}]
[null,"",null,null,null,null,{"$f":"IF(D50<>\"\",MIN(D50-MAX($D$32:D50))/MAX($D$32:D50),\"\")","v":""}]
[null,"",null,null,null,null,{"$f":"IF(D51<>\"\",MIN(D51-MAX($D$32:D51))/MAX($D$32:D51),\"\")","v":""}]
[null,"",null,null,null,null,{"$f":"IF(D52<>\"\",MIN(D52-MAX($D$32:D52))/MAX($D$32:D52),\"\")","v":""}]
[null,"",null,null,null,null,{"$f":"IF(D53<>\"\",MIN(D53-MAX($D$32:D53))/MAX($D$32:D53),\"\")","v":""}]
[null,"",null,null,null,null,{"$f":"IF(D54<>\"\",MIN(D54-MAX($D$32:D54))/MAX($D$32:D54),\"\")","v":""}]
[null,"",null,null,null,null,{"$f":"IF(D55<>\"\",MIN(D55-MAX($D$32:D55))/MAX($D$32:D55),\"\")","v":""}]
[null,"",null,null,null,null,{"$f":"IF(D56<>\"\",MIN(D56-MAX($D$32:D56))/MAX($D$32:D56),\"\")","v":""}]
[null,"",null,null,null,null,{"$f":"IF(D57<>\"\",MIN(D57-MAX($D$32:D57))/MAX($D$32:D57),\"\")","v":""}]
[null,"",null,null,null,null,{"$f":"IF(D58<>\"\",MIN(D58-MAX($D$32:D58))/MAX($D$32:D58),\"\")","v":""}]
[null,"",null,null,null,null,{"$f":"IF(D59<>\"\",MIN(D59-MAX($D$32:D59))/MAX($D$32:D59),\"\")","v":""}]
[null,"",null,null,null,null,{"$f":"IF(D60<>\"\",MIN(D60-MAX($D$32:D60))/MAX($D$32:D60),\"\")","v":""}]
[null,"",null,null,null,null,{"$f":"IF(D61<>\"\",MIN(D61-MAX($D$32:D61))/MAX($D$32:D61),\"\")","v":""}]
[null,"",null,null,null,null,{"$f":"IF(D62<>\"\",MIN(D62-MAX($D$32:D62))/MAX($D$32:D62),\"\")","v":""}]
[null,"",null,null,null,null,{"$f":"IF(D63<>\"\",MIN(D63-MAX($D$32:D63))/MAX($D$32:D63),\"\")","v":""}]
[null,"",null,null,null,null,{"$f":"IF(D64<>\"\",MIN(D64-MAX($D$32:D64))/MAX($D$32:D64),\"\")","v":""}]
[null,"",null,null,null,null,{"$f":"IF(D65<>\"\",MIN(D65-MAX($D$32:D65))/MAX($D$32:D65),\"\")","v":""}]
[null,"",null,null,null,null,{"$f":"IF(D66<>\"\",MIN(D66-MAX($D$32:D66))/MAX($D$32:D66),\"\")","v":""}]
[null,"",null,null,null,null,{"$f":"IF(D67<>\"\",MIN(D67-MAX($D$32:D67))/MAX($D$32:D67),\"\")","v":""}]
[null,"",null,null,null,null,{"$f":"IF(D68<>\"\",MIN(D68-MAX($D$32:D68))/MAX($D$32:D68),\"\")","v":""}]
[null,"",null,null,null,null,{"$f":"IF(D69<>\"\",MIN(D69-MAX($D$32:D69))/MAX($D$32:D69),\"\")","v":""}]
[null,"",null,null,null,null,{"$f":"IF(D70<>\"\",MIN(D70-MAX($D$32:D70))/MAX($D$32:D70),\"\")","v":""}]
[null,"",null,null,null,null,{"$f":"IF(D71<>\"\",MIN(D71-MAX($D$32:D71))/MAX($D$32:D71),\"\")","v":""}]
[null,"",null,null,null,null,{"$f":"IF(D72<>\"\",MIN(D72-MAX($D$32:D72))/MAX($D$32:D72),\"\")","v":""}]
[null,"",null,null,null,null,{"$f":"IF(D73<>\"\",MIN(D73-MAX($D$32:D73))/MAX($D$32:D73),\"\")","v":""}]
[null,"",null,null,null,null,{"$f":"IF(D74<>\"\",MIN(D74-MAX($D$32:D74))/MAX($D$32:D74),\"\")","v":""}]
[null,"",null,null,null,null,{"$f":"IF(D75<>\"\",MIN(D75-MAX($D$32:D75))/MAX($D$32:D75),\"\")","v":""}]
[null,"",null,null,null,null,{"$f":"IF(D76<>\"\",MIN(D76-MAX($D$32:D76))/MAX($D$32:D76),\"\")","v":""}]
[null,"",null,null,null,null,{"$f":"IF(D77<>\"\",MIN(D77-MAX($D$32:D77))/MAX($D$32:D77),\"\")","v":""}]
[null,"",null,null,null,null,{"$f":"IF(D78<>\"\",MIN(D78-MAX($D$32:D78))/MAX($D$32:D78),\"\")","v":""}]
[null,"",null,null,null,null,{"$f":"IF(D79<>\"\",MIN(D79-MAX($D$32:D79))/MAX($D$32:D79),\"\")","v":""}]
[null,"",null,null,null,null,{"$f":"IF(D80<>\"\",MIN(D80-MAX($D$32:D80))/MAX($D$32:D80),\"\")","v":""}]
[null,"",null,null,null,null,{"$f":"IF(D81<>\"\",MIN(D81-MAX($D$32:D81))/MAX($D$32:D81),\"\")","v":""}]
[null,"",null,null,null,null,{"$f":"IF(D82<>\"\",MIN(D82-MAX($D$32:D82))/MAX($D$32:D82),\"\")","v":""}]
[null,"",null,null,null,null,{"$f":"IF(D83<>\"\",MIN(D83-MAX($D$32:D83))/MAX($D$32:D83),\"\")","v":""}]
[null,"",null,null,null,null,{"$f":"IF(D84<>\"\",MIN(D84-MAX($D$32:D84))/MAX($D$32:D84),\"\")","v":""}]
[null,"",null,null,null,null,{"$f":"IF(D85<>\"\",MIN(D85-MAX($D$32:D85))/MAX($D$32:D85),\"\")","v":""}]
[null,"",null,null,null,null,{"$f":"IF(D86<>\"\",MIN(D86-MAX($D$32:D86))/MAX($D$32:D86),\"\")","v":""}]
[null,"",null,null,null,null,{"$f":"IF(D87<>\"\",MIN(D87-MAX($D$32:D87))/MAX($D$32:D87),\"\")","v":""}]
[null,"",null,null,null,null,{"$f":"IF(D88<>\"\",MIN(D88-MAX($D$32:D88))/MAX($D$32:D88),\"\")","v":""}]
[null,"",null,null,null,null,{"$f":"IF(D89<>\"\",MIN(D89-MAX($D$32:D89))/MAX($D$32:D89),\"\")","v":""}]
[null,"",null,null,null,null,{"$f":"IF(D90<>\"\",MIN(D90-MAX($D$32:D90))/MAX($D$32:D90),\"\")","v":""}]
[null,"",null,null,null,null,{"$f":"IF(D91<>\"\",MIN(D91-MAX($D$32:D91))/MAX($D$32:D91),\"\")","v":""}]
[null,"",null,null,null,null,{"$f":"IF(D92<>\"\",MIN(D92-MAX($D$32:D92))/MAX($D$32:D92),\"\")","v":""}]
[null,"",null,null,null,null,{"$f":"IF(D93<>\"\",MIN(D93-MAX($D$32:D93))/MAX($D$32:D93),\"\")","v":""}]
[null,"",null,null,null,null,{"$f":"IF(D94<>\"\",MIN(D94-MAX($D$32:D94))/MAX($D$32:D94),\"\")","v":""}]
[null,"",null,null,null,null,{"$f":"IF(D95<>\"\",MIN(D95-MAX($D$32:D95))/MAX($D$32:D95),\"\")","v":""}]
[null,"",null,null,null,null,{"$f":"IF(D96<>\"\",MIN(D96-MAX($D$32:D96))/MAX($D$32:D96),\"\")","v":""}]
[null,"",null,null,null,null,{"$f":"IF(D97<>\"\",MIN(D97-MAX($D$32:D97))/MAX($D$32:D97),\"\")","v":""}]
[null,{"$f":"IF(A98<>\"\",B97+1,\"\")","v":""},null,null,null,null,{"$f":"IF(D98<>\"\",MIN(D98-MAX($D$32:D98))/MAX($D$32:D98),\"\")","v":""}]
[null,"",null,null,null,null,{"$f":"IF(D99<>\"\",MIN(D99-MAX($D$32:D99))/MAX($D$32:D99),\"\")","v":""}]
[null,"",null,null,null,null,{"$f":"IF(D100<>\"\",MIN(D100-MAX($D$32:D100))/MAX($D$32:D100),\"\")","v":""}]
[null,"",null,null,null,null,{"$f":"IF(D101<>\"\",MIN(D101-MAX($D$32:D101))/MAX($D$32:D101),\"\")","v":""}]
[null,"",null,null,null,null,{"$f":"IF(D102<>\"\",MIN(D102-MAX($D$32:D102))/MAX($D$32:D102),\"\")","v":""}]
[null,"",null,null,null,null,{"$f":"IF(D103<>\"\",MIN(D103-MAX($D$32:D103))/MAX($D$32:D103),\"\")","v":""}]
[null,"",null,null,null,null,{"$f":"IF(D104<>\"\",MIN(D104-MAX($D$32:D104))/MAX($D$32:D104),\"\")","v":""}]
[null,"",null,null,null,null,{"$f":"IF(D105<>\"\",MIN(D105-MAX($D$32:D105))/MAX($D$32:D105),\"\")","v":""}]
[null,"",null,null,null,null,{"$f":"IF(D106<>\"\",MIN(D106-MAX($D$32:D106))/MAX($D$32:D106),\"\")","v":""}]
[null,"",null,null,null,null,{"$f":"IF(D107<>\"\",MIN(D107-MAX($D$32:D107))/MAX($D$32:D107),\"\")","v":""}]
[null,"",null,null,null,null,{"$f":"IF(D108<>\"\",MIN(D108-MAX($D$32:D108))/MAX($D$32:D108),\"\")","v":""}]
[null,"",null,null,null,null,{"$f":"IF(D109<>\"\",MIN(D109-MAX($D$32:D109))/MAX($D$32:D109),\"\")","v":""}]
[null,"",null,null,null,null,{"$f":"IF(D110<>\"\",MIN(D110-MAX($D$32:D110))/MAX($D$32:D110),\"\")","v":""}]
[null,"",null,null,null,null,{"$f":"IF(D111<>\"\",MIN(D111-MAX($D$32:D111))/MAX($D$32:D111),\"\")","v":""}]
[null,"",null,null,null,null,{"$f":"IF(D112<>\"\",MIN(D112-MAX($D$32:D112))/MAX($D$32:D112),\"\")","v":""}]
[null,"",null,null,null,null,{"$f":"IF(D113<>\"\",MIN(D113-MAX($D$32:D113))/MAX($D$32:D113),\"\")","v":""}]
[null,"",null,null,null,null,{"$f":"IF(D114<>\"\",MIN(D114-MAX($D$32:D114))/MAX($D$32:D114),\"\")","v":""}]
[null,"",null,null,null,null,{"$f":"IF(D115<>\"\",MIN(D115-MAX($D$32:D115))/MAX($D$32:D115),\"\")","v":""}]
[null,"",null,null,null,null,{"$f":"IF(D116<>\"\",MIN(D116-MAX($D$32:D116))/MAX($D$32:D116),\"\")","v":""}]
[null,"",null,null,null,null,{"$f":"IF(D117<>\"\",MIN(D117-MAX($D$32:D117))/MAX($D$32:D117),\"\")","v":""}]
[null,"",null,null,null,null,{"$f":"IF(D118<>\"\",MIN(D118-MAX($D$32:D118))/MAX($D$32:D118),\"\")","v":""}]
[null,"",null,null,null,null,{"$f":"IF(D119<>\"\",MIN(D119-MAX($D$32:D119))/MAX($D$32:D119),\"\")","v":""}]
[null,"",null,null,null,null,{"$f":"IF(D120<>\"\",MIN(D120-MAX($D$32:D120))/MAX($D$32:D120),\"\")","v":""}]
[null,"",null,null,null,null,{"$f":"IF(D121<>\"\",MIN(D121-MAX($D$32:D121))/MAX($D$32:D121),\"\")","v":""}]
[null,"",null,null,null,null,{"$f":"IF(D122<>\"\",MIN(D122-MAX($D$32:D122))/MAX($D$32:D122),\"\")","v":""}]
[null,"",null,null,null,null,{"$f":"IF(D123<>\"\",MIN(D123-MAX($D$32:D123))/MAX($D$32:D123),\"\")","v":""}]
[null,"",null,null,null,null,{"$f":"IF(D124<>\"\",MIN(D124-MAX($D$32:D124))/MAX($D$32:D124),\"\")","v":""}]
[null,"",null,null,null,null,{"$f":"IF(D125<>\"\",MIN(D125-MAX($D$32:D125))/MAX($D$32:D125),\"\")","v":""}]
[null,"",null,null,null,null,{"$f":"IF(D126<>\"\",MIN(D126-MAX($D$32:D126))/MAX($D$32:D126),\"\")","v":""}]
[null,"",null,null,null,null,{"$f":"IF(D127<>\"\",MIN(D127-MAX($D$32:D127))/MAX($D$32:D127),\"\")","v":""}]
[null,"",null,null,null,null,{"$f":"IF(D128<>\"\",MIN(D128-MAX($D$32:D128))/MAX($D$32:D128),\"\")","v":""}]
[null,"",null,null,null,null,{"$f":"IF(D129<>\"\",MIN(D129-MAX($D$32:D129))/MAX($D$32:D129),\"\")","v":""}]
[null,"",null,null,null,null,{"$f":"IF(D130<>\"\",MIN(D130-MAX($D$32:D130))/MAX($D$32:D130),\"\")","v":""}]
[null,"",null,null,null,null,{"$f":"IF(D131<>\"\",MIN(D131-MAX($D$32:D131))/MAX($D$32:D131),\"\")","v":""}]
[null,"",null,null,null,null,{"$f":"IF(D132<>\"\",MIN(D132-MAX($D$32:D132))/MAX($D$32:D132),\"\")","v":""}]
[null,"",null,null,null,null,{"$f":"IF(D133<>\"\",MIN(D133-MAX($D$32:D133))/MAX($D$32:D133),\"\")","v":""}]
[null,"",null,null,null,null,{"$f":"IF(D134<>\"\",MIN(D134-MAX($D$32:D134))/MAX($D$32:D134),\"\")","v":""}]
[null,"",null,null,null,null,{"$f":"IF(D135<>\"\",MIN(D135-MAX($D$32:D135))/MAX($D$32:D135),\"\")","v":""}]
[null,"",null,null,null,null,{"$f":"IF(D136<>\"\",MIN(D136-MAX($D$32:D136))/MAX($D$32:D136),\"\")","v":""}]
[null,"",null,null,null,null,{"$f":"IF(D137<>\"\",MIN(D137-MAX($D$32:D137))/MAX($D$32:D137),\"\")","v":""}]
[null,"",null,null,null,null,{"$f":"IF(D138<>\"\",MIN(D138-MAX($D$32:D138))/MAX($D$32:D138),\"\")","v":""}]
[null,"",null,null,null,null,{"$f":"IF(D139<>\"\",MIN(D139-MAX($D$32:D139))/MAX($D$32:D139),\"\")","v":""}]
[null,"",null,null,null,null,{"$f":"IF(D140<>\"\",MIN(D140-MAX($D$32:D140))/MAX($D$32:D140),\"\")","v":""}]
[null,"",null,null,null,null,{"$f":"IF(D141<>\"\",MIN(D141-MAX($D$32:D141))/MAX($D$32:D141),\"\")","v":""}]
[null,"",null,null,null,null,{"$f":"IF(D142<>\"\",MIN(D142-MAX($D$32:D142))/MAX($D$32:D142),\"\")","v":""}]
[null,"",null,null,null,null,{"$f":"IF(D143<>\"\",MIN(D143-MAX($D$32:D143))/MAX($D$32:D143),\"\")","v":""}]
[null,"",null,null,null,null,{"$f":"IF(D144<>\"\",MIN(D144-MAX($D$32:D144))/MAX($D$32:D144),\"\")","v":""}]
[null,"",null,null,null,null,{"$f":"IF(D145<>\"\",MIN(D145-MAX($D$32:D145))/MAX($D$32:D145),\"\")","v":""}]
[null,"",null,null,null,null,{"$f":"IF(D146<>\"\",MIN(D146-MAX($D$32:D146))/MAX($D$32:D146),\"\")","v":""}]
[null,"",null,null,null,null,{"$f":"IF(D147<>\"\",MIN(D147-MAX($D$32:D147))/MAX($D$32:D147),\"\")","v":""}]
[null,"",null,null,null,null,{"$f":"IF(D148<>\"\",MIN(D148-MAX($D$32:D148))/MAX($D$32:D148),\"\")","v":""}]
[null,"",null,null,null,null,{"$f":"IF(D149<>\"\",MIN(D149-MAX($D$32:D149))/MAX($D$32:D149),\"\")","v":""}]
[null,"",null,null,null,null,{"$f":"IF(D150<>\"\",MIN(D150-MAX($D$32:D150))/MAX($D$32:D150),\"\")","v":""}]
[null,"",null,null,null,null,{"$f":"IF(D151<>\"\",MIN(D151-MAX($D$32:D151))/MAX($D$32:D151),\"\")","v":""}]
[null,"",null,null,null,null,{"$f":"IF(D152<>\"\",MIN(D152-MAX($D$32:D152))/MAX($D$32:D152),\"\")","v":""}]
[null,"",null,null,null,null,{"$f":"IF(D153<>\"\",MIN(D153-MAX($D$32:D153))/MAX($D$32:D153),\"\")","v":""}]
[null,"",null,null,null,null,{"$f":"IF(D154<>\"\",MIN(D154-MAX($D$32:D154))/MAX($D$32:D154),\"\")","v":""}]
[null,"",null,null,null,null,{"$f":"IF(D155<>\"\",MIN(D155-MAX($D$32:D155))/MAX($D$32:D155),\"\")","v":""}]
[null,"",null,null,null,null,{"$f":"IF(D156<>\"\",MIN(D156-MAX($D$32:D156))/MAX($D$32:D156),\"\")","v":""}]
[null,"",null,null,null,null,{"$f":"IF(D157<>\"\",MIN(D157-MAX($D$32:D157))/MAX($D$32:D157),\"\")","v":""}]
[null,"",null,null,null,null,{"$f":"IF(D158<>\"\",MIN(D158-MAX($D$32:D158))/MAX($D$32:D158),\"\")","v":""}]
[null,"",null,null,null,null,{"$f":"IF(D159<>\"\",MIN(D159-MAX($D$32:D159))/MAX($D$32:D159),\"\")","v":""}]
[null,"",null,null,null,null,{"$f":"IF(D160<>\"\",MIN(D160-MAX($D$32:D160))/MAX($D$32:D160),\"\")","v":""}]
[null,"",null,null,null,null,{"$f":"IF(D161<>\"\",MIN(D161-MAX($D$32:D161))/MAX($D$32:D161),\"\")","v":""}]
[null,{"$f":"IF(A162<>\"\",B161+1,\"\")","v":""},null,null,null,null,{"$f":"IF(D162<>\"\",MIN(D162-MAX($D$32:D162))/MAX($D$32:D162),\"\")","v":""}]
[null,"",null,null,null,null,{"$f":"IF(D163<>\"\",MIN(D163-MAX($D$32:D163))/MAX($D$32:D163),\"\")","v":""}]
[null,"",null,null,null,null,{"$f":"IF(D164<>\"\",MIN(D164-MAX($D$32:D164))/MAX($D$32:D164),\"\")","v":""}]
[null,"",null,null,null,null,{"$f":"IF(D165<>\"\",MIN(D165-MAX($D$32:D165))/MAX($D$32:D165),\"\")","v":""}]
[null,"",null,null,null,null,{"$f":"IF(D166<>\"\",MIN(D166-MAX($D$32:D166))/MAX($D$32:D166),\"\")","v":""}]
[null,"",null,null,null,null,{"$f":"IF(D167<>\"\",MIN(D167-MAX($D$32:D167))/MAX($D$32:D167),\"\")","v":""}]
[null,"",null,null,null,null,{"$f":"IF(D168<>\"\",MIN(D168-MAX($D$32:D168))/MAX($D$32:D168),\"\")","v":""}]
[null,"",null,null,null,null,{"$f":"IF(D169<>\"\",MIN(D169-MAX($D$32:D169))/MAX($D$32:D169),\"\")","v":""}]
[null,"",null,null,null,null,{"$f":"IF(D170<>\"\",MIN(D170-MAX($D$32:D170))/MAX($D$32:D170),\"\")","v":""}]
[null,"",null,null,null,null,{"$f":"IF(D171<>\"\",MIN(D171-MAX($D$32:D171))/MAX($D$32:D171),\"\")","v":""}]
[null,"",null,null,null,null,{"$f":"IF(D172<>\"\",MIN(D172-MAX($D$32:D172))/MAX($D$32:D172),\"\")","v":""}]
[null,"",null,null,null,null,{"$f":"IF(D173<>\"\",MIN(D173-MAX($D$32:D173))/MAX($D$32:D173),\"\")","v":""}]
[null,"",null,null,null,null,{"$f":"IF(D174<>\"\",MIN(D174-MAX($D$32:D174))/MAX($D$32:D174),\"\")","v":""}]
[null,"",null,null,null,null,{"$f":"IF(D175<>\"\",MIN(D175-MAX($D$32:D175))/MAX($D$32:D175),\"\")","v":""}]
[null,"",null,null,null,null,{"$f":"IF(D176<>\"\",MIN(D176-MAX($D$32:D176))/MAX($D$32:D176),\"\")","v":""}]
[null,"",null,null,null,null,{"$f":"IF(D177<>\"\",MIN(D177-MAX($D$32:D177))/MAX($D$32:D177),\"\")","v":""}]
[null,"",null,null,null,null,{"$f":"IF(D178<>\"\",MIN(D178-MAX($D$32:D178))/MAX($D$32:D178),\"\")","v":""}]
[null,"",null,null,null,null,{"$f":"IF(D179<>\"\",MIN(D179-MAX($D$32:D179))/MAX($D$32:D179),\"\")","v":""}]
[null,"",null,null,null,null,{"$f":"IF(D180<>\"\",MIN(D180-MAX($D$32:D180))/MAX($D$32:D180),\"\")","v":""}]
[null,"",null,null,null,null,{"$f":"IF(D181<>\"\",MIN(D181-MAX($D$32:D181))/MAX($D$32:D181),\"\")","v":""}]
[null,"",null,null,null,null,{"$f":"IF(D182<>\"\",MIN(D182-MAX($D$32:D182))/MAX($D$32:D182),\"\")","v":""}]
[null,"",null,null,null,null,{"$f":"IF(D183<>\"\",MIN(D183-MAX($D$32:D183))/MAX($D$32:D183),\"\")","v":""}]
[null,"",null,null,null,null,{"$f":"IF(D184<>\"\",MIN(D184-MAX($D$32:D184))/MAX($D$32:D184),\"\")","v":""}]
[null,"",null,null,null,null,{"$f":"IF(D185<>\"\",MIN(D185-MAX($D$32:D185))/MAX($D$32:D185),\"\")","v":""}]
[null,"",null,null,null,null,{"$f":"IF(D186<>\"\",MIN(D186-MAX($D$32:D186))/MAX($D$32:D186),\"\")","v":""}]
[null,"",null,null,null,null,{"$f":"IF(D187<>\"\",MIN(D187-MAX($D$32:D187))/MAX($D$32:D187),\"\")","v":""}]
[null,"",null,null,null,null,{"$f":"IF(D188<>\"\",MIN(D188-MAX($D$32:D188))/MAX($D$32:D188),\"\")","v":""}]
[null,"",null,null,null,null,{"$f":"IF(D189<>\"\",MIN(D189-MAX($D$32:D189))/MAX($D$32:D189),\"\")","v":""}]
[null,"",null,null,null,null,{"$f":"IF(D190<>\"\",MIN(D190-MAX($D$32:D190))/MAX($D$32:D190),\"\")","v":""}]
[null,"",null,null,null,null,{"$f":"IF(D191<>\"\",MIN(D191-MAX($D$32:D191))/MAX($D$32:D191),\"\")","v":""}]
[null,"",null,null,null,null,{"$f":"IF(D192<>\"\",MIN(D192-MAX($D$32:D192))/MAX($D$32:D192),\"\")","v":""}]
[null,"",null,null,null,null,{"$f":"IF(D193<>\"\",MIN(D193-MAX($D$32:D193))/MAX($D$32:D193),\"\")","v":""}]
[null,"",null,null,null,null,{"$f":"IF(D194<>\"\",MIN(D194-MAX($D$32:D194))/MAX($D$32:D194),\"\")","v":""}]
[null,"",null,null,null,null,{"$f":"IF(D195<>\"\",MIN(D195-MAX($D$32:D195))/MAX($D$32:D195),\"\")","v":""}]
[null,"",null,null,null,null,{"$f":"IF(D196<>\"\",MIN(D196-MAX($D$32:D196))/MAX($D$32:D196),\"\")","v":""}]
[null,"",null,null,null,null,{"$f":"IF(D197<>\"\",MIN(D197-MAX($D$32:D197))/MAX($D$32:D197),\"\")","v":""}]
[null,"",null,null,null,null,{"$f":"IF(D198<>\"\",MIN(D198-MAX($D$32:D198))/MAX($D$32:D198),\"\")","v":""}]
[null,"",null,null,null,null,{"$f":"IF(D199<>\"\",MIN(D199-MAX($D$32:D199))/MAX($D$32:D199),\"\")","v":""}]
[null,"",null,null,null,null,{"$f":"IF(D200<>\"\",MIN(D200-MAX($D$32:D200))/MAX($D$32:D200),\"\")","v":""}]
[null,"",null,null,null,null,{"$f":"IF(D201<>\"\",MIN(D201-MAX($D$32:D201))/MAX($D$32:D201),\"\")","v":""}]
[null,"",null,null,null,null,{"$f":"IF(D202<>\"\",MIN(D202-MAX($D$32:D202))/MAX($D$32:D202),\"\")","v":""}]
[null,"",null,null,null,null,{"$f":"IF(D203<>\"\",MIN(D203-MAX($D$32:D203))/MAX($D$32:D203),\"\")","v":""}]
[null,"",null,null,null,null,{"$f":"IF(D204<>\"\",MIN(D204-MAX($D$32:D204))/MAX($D$32:D204),\"\")","v":""}]
[null,"",null,null,null,null,{"$f":"IF(D205<>\"\",MIN(D205-MAX($D$32:D205))/MAX($D$32:D205),\"\")","v":""}]
[null,"",null,null,null,null,{"$f":"IF(D206<>\"\",MIN(D206-MAX($D$32:D206))/MAX($D$32:D206),\"\")","v":""}]
[null,"",null,null,null,null,{"$f":"IF(D207<>\"\",MIN(D207-MAX($D$32:D207))/MAX($D$32:D207),\"\")","v":""}]
[null,"",null,null,null,null,{"$f":"IF(D208<>\"\",MIN(D208-MAX($D$32:D208))/MAX($D$32:D208),\"\")","v":""}]
[null,"",null,null,null,null,{"$f":"IF(D209<>\"\",MIN(D209-MAX($D$32:D209))/MAX($D$32:D209),\"\")","v":""}]
[null,"",null,null,null,null,{"$f":"IF(D210<>\"\",MIN(D210-MAX($D$32:D210))/MAX($D$32:D210),\"\")","v":""}]
[null,"",null,null,null,null,{"$f":"IF(D211<>\"\",MIN(D211-MAX($D$32:D211))/MAX($D$32:D211),\"\")","v":""}]
[null,"",null,null,null,null,{"$f":"IF(D212<>\"\",MIN(D212-MAX($D$32:D212))/MAX($D$32:D212),\"\")","v":""}]
[null,"",null,null,null,null,{"$f":"IF(D213<>\"\",MIN(D213-MAX($D$32:D213))/MAX($D$32:D213),\"\")","v":""}]
[null,"",null,null,null,null,{"$f":"IF(D214<>\"\",MIN(D214-MAX($D$32:D214))/MAX($D$32:D214),\"\")","v":""}]
[null,"",null,null,null,null,{"$f":"IF(D215<>\"\",MIN(D215-MAX($D$32:D215))/MAX($D$32:D215),\"\")","v":""}]
[null,"",null,null,null,null,{"$f":"IF(D216<>\"\",MIN(D216-MAX($D$32:D216))/MAX($D$32:D216),\"\")","v":""}]
[null,"",null,null,null,null,{"$f":"IF(D217<>\"\",MIN(D217-MAX($D$32:D217))/MAX($D$32:D217),\"\")","v":""}]
[null,"",null,null,null,null,{"$f":"IF(D218<>\"\",MIN(D218-MAX($D$32:D218))/MAX($D$32:D218),\"\")","v":""}]
[null,"",null,null,null,null,{"$f":"IF(D219<>\"\",MIN(D219-MAX($D$32:D219))/MAX($D$32:D219),\"\")","v":""}]
[null,"",null,null,null,null,{"$f":"IF(D220<>\"\",MIN(D220-MAX($D$32:D220))/MAX($D$32:D220),\"\")","v":""}]
[null,"",null,null,null,null,{"$f":"IF(D221<>\"\",MIN(D221-MAX($D$32:D221))/MAX($D$32:D221),\"\")","v":""}]
[null,"",null,null,null,null,{"$f":"IF(D222<>\"\",MIN(D222-MAX($D$32:D222))/MAX($D$32:D222),\"\")","v":""}]
[null,"",null,null,null,null,{"$f":"IF(D223<>\"\",MIN(D223-MAX($D$32:D223))/MAX($D$32:D223),\"\")","v":""}]
[null,"",null,null,null,null,{"$f":"IF(D224<>\"\",MIN(D224-MAX($D$32:D224))/MAX($D$32:D224),\"\")","v":""}]
[null,"",null,null,null,null,{"$f":"IF(D225<>\"\",MIN(D225-MAX($D$32:D225))/MAX($D$32:D225),\"\")","v":""}]
[null,{"$f":"IF(A226<>\"\",B225+1,\"\")","v":""},null,null,null,null,{"$f":"IF(D226<>\"\",MIN(D226-MAX($D$32:D226))/MAX($D$32:D226),\"\")","v":""}]
[null,"",null,null,null,null,{"$f":"IF(D227<>\"\",MIN(D227-MAX($D$32:D227))/MAX($D$32:D227),\"\")","v":""}]
[null,"",null,null,null,null,{"$f":"IF(D228<>\"\",MIN(D228-MAX($D$32:D228))/MAX($D$32:D228),\"\")","v":""}]
[null,"",null,null,null,null,{"$f":"IF(D229<>\"\",MIN(D229-MAX($D$32:D229))/MAX($D$32:D229),\"\")","v":""}]
[null,"",null,null,null,null,{"$f":"IF(D230<>\"\",MIN(D230-MAX($D$32:D230))/MAX($D$32:D230),\"\")","v":""}]
[null,"",null,null,null,null,{"$f":"IF(D231<>\"\",MIN(D231-MAX($D$32:D231))/MAX($D$32:D231),\"\")","v":""}]
[null,"",null,null,null,null,{"$f":"IF(D232<>\"\",MIN(D232-MAX($D$32:D232))/MAX($D$32:D232),\"\")","v":""}]
[null,"",null,null,null,null,{"$f":"IF(D233<>\"\",MIN(D233-MAX($D$32:D233))/MAX($D$32:D233),\"\")","v":""}]
[null,"",null,null,null,null,{"$f":"IF(D234<>\"\",MIN(D234-MAX($D$32:D234))/MAX($D$32:D234),\"\")","v":""}]
[null,"",null,null,null,null,{"$f":"IF(D235<>\"\",MIN(D235-MAX($D$32:D235))/MAX($D$32:D235),\"\")","v":""}]
[null,"",null,null,null,null,{"$f":"IF(D236<>\"\",MIN(D236-MAX($D$32:D236))/MAX($D$32:D236),\"\")","v":""}]
[null,"",null,null,null,null,{"$f":"IF(D237<>\"\",MIN(D237-MAX($D$32:D237))/MAX($D$32:D237),\"\")","v":""}]
[null,"",null,null,null,null,{"$f":"IF(D238<>\"\",MIN(D238-MAX($D$32:D238))/MAX($D$32:D238),\"\")","v":""}]
[null,"",null,null,null,null,{"$f":"IF(D239<>\"\",MIN(D239-MAX($D$32:D239))/MAX($D$32:D239),\"\")","v":""}]
[null,"",null,null,null,null,{"$f":"IF(D240<>\"\",MIN(D240-MAX($D$32:D240))/MAX($D$32:D240),\"\")","v":""}]
[null,"",null,null,null,null,{"$f":"IF(D241<>\"\",MIN(D241-MAX($D$32:D241))/MAX($D$32:D241),\"\")","v":""}]
[null,"",null,null,null,null,{"$f":"IF(D242<>\"\",MIN(D242-MAX($D$32:D242))/MAX($D$32:D242),\"\")","v":""}]
[null,"",null,null,null,null,{"$f":"IF(D243<>\"\",MIN(D243-MAX($D$32:D243))/MAX($D$32:D243),\"\")","v":""}]
[null,"",null,null,null,null,{"$f":"IF(D244<>\"\",MIN(D244-MAX($D$32:D244))/MAX($D$32:D244),\"\")","v":""}]
[null,"",null,null,null,null,{"$f":"IF(D245<>\"\",MIN(D245-MAX($D$32:D245))/MAX($D$32:D245),\"\")","v":""}]
[null,"",null,null,null,null,{"$f":"IF(D246<>\"\",MIN(D246-MAX($D$32:D246))/MAX($D$32:D246),\"\")","v":""}]
[null,"",null,null,null,null,{"$f":"IF(D247<>\"\",MIN(D247-MAX($D$32:D247))/MAX($D$32:D247),\"\")","v":""}]
[null,"",null,null,null,null,{"$f":"IF(D248<>\"\",MIN(D248-MAX($D$32:D248))/MAX($D$32:D248),\"\")","v":""}]
[null,"",null,null,null,null,{"$f":"IF(D249<>\"\",MIN(D249-MAX($D$32:D249))/MAX($D$32:D249),\"\")","v":""}]
[null,"",null,null,null,null,{"$f":"IF(D250<>\"\",MIN(D250-MAX($D$32:D250))/MAX($D$32:D250),\"\")","v":""}]
[null,"",null,null,null,null,{"$f":"IF(D251<>\"\",MIN(D251-MAX($D$32:D251))/MAX($D$32:D251),\"\")","v":""}]
[null,"",null,null,null,null,{"$f":"IF(D252<>\"\",MIN(D252-MAX($D$32:D252))/MAX($D$32:D252),\"\")","v":""}]
[null,"",null,null,null,null,{"$f":"IF(D253<>\"\",MIN(D253-MAX($D$32:D253))/MAX($D$32:D253),\"\")","v":""}]
[null,"",null,null,null,null,{"$f":"IF(D254<>\"\",MIN(D254-MAX($D$32:D254))/MAX($D$32:D254),\"\")","v":""}]
[null,"",null,null,null,null,{"$f":"IF(D255<>\"\",MIN(D255-MAX($D$32:D255))/MAX($D$32:D255),\"\")","v":""}]
[null,"",null,null,null,null,{"$f":"IF(D256<>\"\",MIN(D256-MAX($D$32:D256))/MAX($D$32:D256),\"\")","v":""}]
[null,"",null,null,null,null,{"$f":"IF(D257<>\"\",MIN(D257-MAX($D$32:D257))/MAX($D$32:D257),\"\")","v":""}]
[null,"",null,null,null,null,{"$f":"IF(D258<>\"\",MIN(D258-MAX($D$32:D258))/MAX($D$32:D258),\"\")","v":""}]
[null,"",null,null,null,null,{"$f":"IF(D259<>\"\",MIN(D259-MAX($D$32:D259))/MAX($D$32:D259),\"\")","v":""}]
[null,"",null,null,null,null,{"$f":"IF(D260<>\"\",MIN(D260-MAX($D$32:D260))/MAX($D$32:D260),\"\")","v":""}]
[null,"",null,null,null,null,{"$f":"IF(D261<>\"\",MIN(D261-MAX($D$32:D261))/MAX($D$32:D261),\"\")","v":""}]
[null,"",null,null,null,null,{"$f":"IF(D262<>\"\",MIN(D262-MAX($D$32:D262))/MAX($D$32:D262),\"\")","v":""}]
[null,"",null,null,null,null,{"$f":"IF(D263<>\"\",MIN(D263-MAX($D$32:D263))/MAX($D$32:D263),\"\")","v":""}]
[null,"",null,null,null,null,{"$f":"IF(D264<>\"\",MIN(D264-MAX($D$32:D264))/MAX($D$32:D264),\"\")","v":""}]
[null,"",null,null,null,null,{"$f":"IF(D265<>\"\",MIN(D265-MAX($D$32:D265))/MAX($D$32:D265),\"\")","v":""}]
[null,"",null,null,null,null,{"$f":"IF(D266<>\"\",MIN(D266-MAX($D$32:D266))/MAX($D$32:D266),\"\")","v":""}]
[null,"",null,null,null,null,{"$f":"IF(D267<>\"\",MIN(D267-MAX($D$32:D267))/MAX($D$32:D267),\"\")","v":""}]
[null,"",null,null,null,null,{"$f":"IF(D268<>\"\",MIN(D268-MAX($D$32:D268))/MAX($D$32:D268),\"\")","v":""}]
[null,"",null,null,null,null,{"$f":"IF(D269<>\"\",MIN(D269-MAX($D$32:D269))/MAX($D$32:D269),\"\")","v":""}]
[null,"",null,null,null,null,{"$f":"IF(D270<>\"\",MIN(D270-MAX($D$32:D270))/MAX($D$32:D270),\"\")","v":""}]
[null,"",null,null,null,null,{"$f":"IF(D271<>\"\",MIN(D271-MAX($D$32:D271))/MAX($D$32:D271),\"\")","v":""}]
[null,"",null,null,null,null,{"$f":"IF(D272<>\"\",MIN(D272-MAX($D$32:D272))/MAX($D$32:D272),\"\")","v":""}]
[null,"",null,null,null,null,{"$f":"IF(D273<>\"\",MIN(D273-MAX($D$32:D273))/MAX($D$32:D273),\"\")","v":""}]
[null,"",null,null,null,null,{"$f":"IF(D274<>\"\",MIN(D274-MAX($D$32:D274))/MAX($D$32:D274),\"\")","v":""}]
[null,"",null,null,null,null,{"$f":"IF(D275<>\"\",MIN(D275-MAX($D$32:D275))/MAX($D$32:D275),\"\")","v":""}]
[null,"",null,null,null,null,{"$f":"IF(D276<>\"\",MIN(D276-MAX($D$32:D276))/MAX($D$32:D276),\"\")","v":""}]
[null,"",null,null,null,null,{"$f":"IF(D277<>\"\",MIN(D277-MAX($D$32:D277))/MAX($D$32:D277),\"\")","v":""}]
[null,"",null,null,null,null,{"$f":"IF(D278<>\"\",MIN(D278-MAX($D$32:D278))/MAX($D$32:D278),\"\")","v":""}]
[null,"",null,null,null,null,{"$f":"IF(D279<>\"\",MIN(D279-MAX($D$32:D279))/MAX($D$32:D279),\"\")","v":""}]
[null,"",null,null,null,null,{"$f":"IF(D280<>\"\",MIN(D280-MAX($D$32:D280))/MAX($D$32:D280),\"\")","v":""}]
[null,"",null,null,null,null,{"$f":"IF(D281<>\"\",MIN(D281-MAX($D$32:D281))/MAX($D$32:D281),\"\")","v":""}]
[null,"",null,null,null,null,{"$f":"IF(D282<>\"\",MIN(D282-MAX($D$32:D282))/MAX($D$32:D282),\"\")","v":""}]
[null,"",null,null,null,null,{"$f":"IF(D283<>\"\",MIN(D283-MAX($D$32:D283))/MAX($D$32:D283),\"\")","v":""}]
[null,"",null,null,null,null,{"$f":"IF(D284<>\"\",MIN(D284-MAX($D$32:D284))/MAX($D$32:D284),\"\")","v":""}]
[null,"",null,null,null,null,{"$f":"IF(D285<>\"\",MIN(D285-MAX($D$32:D285))/MAX($D$32:D285),\"\")","v":""}]
[null,"",null,null,null,null,{"$f":"IF(D286<>\"\",MIN(D286-MAX($D$32:D286))/MAX($D$32:D286),\"\")","v":""}]
[null,"",null,null,null,null,{"$f":"IF(D287<>\"\",MIN(D287-MAX($D$32:D287))/MAX($D$32:D287),\"\")","v":""}]
[null,"",null,null,null,null,{"$f":"IF(D288<>\"\",MIN(D288-MAX($D$32:D288))/MAX($D$32:D288),\"\")","v":""}]
[null,"",null,null,null,null,{"$f":"IF(D289<>\"\",MIN(D289-MAX($D$32:D289))/MAX($D$32:D289),\"\")","v":""}]
[null,{"$f":"IF(A290<>\"\",B289+1,\"\")","v":""},null,null,null,null,{"$f":"IF(D290<>\"\",MIN(D290-MAX($D$32:D290))/MAX($D$32:D290),\"\")","v":""}]
[null,"",null,null,null,null,{"$f":"IF(D291<>\"\",MIN(D291-MAX($D$32:D291))/MAX($D$32:D291),\"\")","v":""}]
[null,"",null,null,null,null,{"$f":"IF(D292<>\"\",MIN(D292-MAX($D$32:D292))/MAX($D$32:D292),\"\")","v":""}]
[null,"",null,null,null,null,{"$f":"IF(D293<>\"\",MIN(D293-MAX($D$32:D293))/MAX($D$32:D293),\"\")","v":""}]
[null,"",null,null,null,null,{"$f":"IF(D294<>\"\",MIN(D294-MAX($D$32:D294))/MAX($D$32:D294),\"\")","v":""}]
[null,"",null,null,null,null,{"$f":"IF(D295<>\"\",MIN(D295-MAX($D$32:D295))/MAX($D$32:D295),\"\")","v":""}]
[null,"",null,null,null,null,{"$f":"IF(D296<>\"\",MIN(D296-MAX($D$32:D296))/MAX($D$32:D296),\"\")","v":""}]
[null,"",null,null,null,null,{"$f":"IF(D297<>\"\",MIN(D297-MAX($D$32:D297))/MAX($D$32:D297),\"\")","v":""}]
[null,"",null,null,null,null,{"$f":"IF(D298<>\"\",MIN(D298-MAX($D$32:D298))/MAX($D$32:D298),\"\")","v":""}]
[null,"",null,null,null,null,{"$f":"IF(D299<>\"\",MIN(D299-MAX($D$32:D299))/MAX($D$32:D299),\"\")","v":""}]
[null,"",null,null,null,null,{"$f":"IF(D300<>\"\",MIN(D300-MAX($D$32:D300))/MAX($D$32:D300),\"\")","v":""}]
[null,"",null,null,null,null,{"$f":"IF(D301<>\"\",MIN(D301-MAX($D$32:D301))/MAX($D$32:D301),\"\")","v":""}]
[null,"",null,null,null,null,{"$f":"IF(D302<>\"\",MIN(D302-MAX($D$32:D302))/MAX($D$32:D302),\"\")","v":""}]
[null,"",null,null,null,null,{"$f":"IF(D303<>\"\",MIN(D303-MAX($D$32:D303))/MAX($D$32:D303),\"\")","v":""}]
[null,"",null,null,null,null,{"$f":"IF(D304<>\"\",MIN(D304-MAX($D$32:D304))/MAX($D$32:D304),\"\")","v":""}]
[null,"",null,null,null,null,{"$f":"IF(D305<>\"\",MIN(D305-MAX($D$32:D305))/MAX($D$32:D305),\"\")","v":""}]
[null,"",null,null,null,null,{"$f":"IF(D306<>\"\",MIN(D306-MAX($D$32:D306))/MAX($D$32:D306),\"\")","v":""}]
[null,"",null,null,null,null,{"$f":"IF(D307<>\"\",MIN(D307-MAX($D$32:D307))/MAX($D$32:D307),\"\")","v":""}]
[null,"",null,null,null,null,{"$f":"IF(D308<>\"\",MIN(D308-MAX($D$32:D308))/MAX($D$32:D308),\"\")","v":""}]
[null,"",null,null,null,null,{"$f":"IF(D309<>\"\",MIN(D309-MAX($D$32:D309))/MAX($D$32:D309),\"\")","v":""}]
[null,"",null,null,null,null,{"$f":"IF(D310<>\"\",MIN(D310-MAX($D$32:D310))/MAX($D$32:D310),\"\")","v":""}]
[null,"",null,null,null,null,{"$f":"IF(D311<>\"\",MIN(D311-MAX($D$32:D311))/MAX($D$32:D311),\"\")","v":""}]
[null,"",null,null,null,null,{"$f":"IF(D312<>\"\",MIN(D312-MAX($D$32:D312))/MAX($D$32:D312),\"\")","v":""}]
[null,"",null,null,null,null,{"$f":"IF(D313<>\"\",MIN(D313-MAX($D$32:D313))/MAX($D$32:D313),\"\")","v":""}]
[null,"",null,null,null,null,{"$f":"IF(D314<>\"\",MIN(D314-MAX($D$32:D314))/MAX($D$32:D314),\"\")","v":""}]
[null,"",null,null,null,null,{"$f":"IF(D315<>\"\",MIN(D315-MAX($D$32:D315))/MAX($D$32:D315),\"\")","v":""}]
[null,"",null,null,null,null,{"$f":"IF(D316<>\"\",MIN(D316-MAX($D$32:D316))/MAX($D$32:D316),\"\")","v":""}]
[null,"",null,null,null,null,{"$f":"IF(D317<>\"\",MIN(D317-MAX($D$32:D317))/MAX($D$32:D317),\"\")","v":""}]
[null,"",null,null,null,null,{"$f":"IF(D318<>\"\",MIN(D318-MAX($D$32:D318))/MAX($D$32:D318),\"\")","v":""}]
[null,"",null,null,null,null,{"$f":"IF(D319<>\"\",MIN(D319-MAX($D$32:D319))/MAX($D$32:D319),\"\")","v":""}]
[null,"",null,null,null,null,{"$f":"IF(D320<>\"\",MIN(D320-MAX($D$32:D320))/MAX($D$32:D320),\"\")","v":""}]
[null,"",null,null,null,null,{"$f":"IF(D321<>\"\",MIN(D321-MAX($D$32:D321))/MAX($D$32:D321),\"\")","v":""}]
[null,"",null,null,null,null,{"$f":"IF(D322<>\"\",MIN(D322-MAX($D$32:D322))/MAX($D$32:D322),\"\")","v":""}]
[null,"",null,null,null,null,{"$f":"IF(D323<>\"\",MIN(D323-MAX($D$32:D323))/MAX($D$32:D323),\"\")","v":""}]
[null,"",null,null,null,null,{"$f":"IF(D324<>\"\",MIN(D324-MAX($D$32:D324))/MAX($D$32:D324),\"\")","v":""}]
[null,"",null,null,null,null,{"$f":"IF(D325<>\"\",MIN(D325-MAX($D$32:D325))/MAX($D$32:D325),\"\")","v":""}]
[null,"",null,null,null,null,{"$f":"IF(D326<>\"\",MIN(D326-MAX($D$32:D326))/MAX($D$32:D326),\"\")","v":""}]
[null,"",null,null,null,null,{"$f":"IF(D327<>\"\",MIN(D327-MAX($D$32:D327))/MAX($D$32:D327),\"\")","v":""}]
[null,"",null,null,null,null,{"$f":"IF(D328<>\"\",MIN(D328-MAX($D$32:D328))/MAX($D$32:D328),\"\")","v":""}]
[null,"",null,null,null,null,{"$f":"IF(D329<>\"\",MIN(D329-MAX($D$32:D329))/MAX($D$32:D329),\"\")","v":""}]
[null,"",null,null,null,null,{"$f":"IF(D330<>\"\",MIN(D330-MAX($D$32:D330))/MAX($D$32:D330),\"\")","v":""}]
[null,"",null,null,null,null,{"$f":"IF(D331<>\"\",MIN(D331-MAX($D$32:D331))/MAX($D$32:D331),\"\")","v":""}]
[null,"",null,null,null,null,{"$f":"IF(D332<>\"\",MIN(D332-MAX($D$32:D332))/MAX($D$32:D332),\"\")","v":""}]
[null,"",null,null,null,null,{"$f":"IF(D333<>\"\",MIN(D333-MAX($D$32:D333))/MAX($D$32:D333),\"\")","v":""}]
[null,"",null,null,null,null,{"$f":"IF(D334<>\"\",MIN(D334-MAX($D$32:D334))/MAX($D$32:D334),\"\")","v":""}]
[null,"",null,null,null,null,{"$f":"IF(D335<>\"\",MIN(D335-MAX($D$32:D335))/MAX($D$32:D335),\"\")","v":""}]
[null,"",null,null,null,null,{"$f":"IF(D336<>\"\",MIN(D336-MAX($D$32:D336))/MAX($D$32:D336),\"\")","v":""}]
[null,"",null,null,null,null,{"$f":"IF(D337<>\"\",MIN(D337-MAX($D$32:D337))/MAX($D$32:D337),\"\")","v":""}]
[null,"",null,null,null,null,{"$f":"IF(D338<>\"\",MIN(D338-MAX($D$32:D338))/MAX($D$32:D338),\"\")","v":""}]
[null,"",null,null,null,null,{"$f":"IF(D339<>\"\",MIN(D339-MAX($D$32:D339))/MAX($D$32:D339),\"\")","v":""}]
[null,"",null,null,null,null,{"$f":"IF(D340<>\"\",MIN(D340-MAX($D$32:D340))/MAX($D$32:D340),\"\")","v":""}]
[null,"",null,null,null,null,{"$f":"IF(D341<>\"\",MIN(D341-MAX($D$32:D341))/MAX($D$32:D341),\"\")","v":""}]
[null,"",null,null,null,null,{"$f":"IF(D342<>\"\",MIN(D342-MAX($D$32:D342))/MAX($D$32:D342),\"\")","v":""}]
[null,"",null,null,null,null,{"$f":"IF(D343<>\"\",MIN(D343-MAX($D$32:D343))/MAX($D$32:D343),\"\")","v":""}]
[null,"",null,null,null,null,{"$f":"IF(D344<>\"\",MIN(D344-MAX($D$32:D344))/MAX($D$32:D344),\"\")","v":""}]
[null,"",null,null,null,null,{"$f":"IF(D345<>\"\",MIN(D345-MAX($D$32:D345))/MAX($D$32:D345),\"\")","v":""}]
[null,"",null,null,null,null,{"$f":"IF(D346<>\"\",MIN(D346-MAX($D$32:D346))/MAX($D$32:D346),\"\")","v":""}]
[null,"",null,null,null,null,{"$f":"IF(D347<>\"\",MIN(D347-MAX($D$32:D347))/MAX($D$32:D347),\"\")","v":""}]
[null,"",null,null,null,null,{"$f":"IF(D348<>\"\",MIN(D348-MAX($D$32:D348))/MAX($D$32:D348),\"\")","v":""}]
[null,"",null,null,null,null,{"$f":"IF(D349<>\"\",MIN(D349-MAX($D$32:D349))/MAX($D$32:D349),\"\")","v":""}]
[null,"",null,null,null,null,{"$f":"IF(D350<>\"\",MIN(D350-MAX($D$32:D350))/MAX($D$32:D350),\"\")","v":""}]
[null,"",null,null,null,null,{"$f":"IF(D351<>\"\",MIN(D351-MAX($D$32:D351))/MAX($D$32:D351),\"\")","v":""}]
[null,"",null,null,null,null,{"$f":"IF(D352<>\"\",MIN(D352-MAX($D$32:D352))/MAX($D$32:D352),\"\")","v":""}]
[null,"",null,null,null,null,{"$f":"IF(D353<>\"\",MIN(D353-MAX($D$32:D353))/MAX($D$32:D353),\"\")","v":""}]
[null,{"$f":"IF(A354<>\"\",B353+1,\"\")","v":""},null,null,null,null,{"$f":"IF(D354<>\"\",MIN(D354-MAX($D$32:D354))/MAX($D$32:D354),\"\")","v":""}]
[null,"",null,null,null,null,{"$f":"IF(D355<>\"\",MIN(D355-MAX($D$32:D355))/MAX($D$32:D355),\"\")","v":""}]
[null,"",null,null,null,null,{"$f":"IF(D356<>\"\",MIN(D356-MAX($D$32:D356))/MAX($D$32:D356),\"\")","v":""}]
[null,"",null,null,null,null,{"$f":"IF(D357<>\"\",MIN(D357-MAX($D$32:D357))/MAX($D$32:D357),\"\")","v":""}]
[null,"",null,null,null,null,{"$f":"IF(D358<>\"\",MIN(D358-MAX($D$32:D358))/MAX($D$32:D358),\"\")","v":""}]
[null,"",null,null,null,null,{"$f":"IF(D359<>\"\",MIN(D359-MAX($D$32:D359))/MAX($D$32:D359),\"\")","v":""}]
[null,"",null,null,null,null,{"$f":"IF(D360<>\"\",MIN(D360-MAX($D$32:D360))/MAX($D$32:D360),\"\")","v":""}]
[null,"",null,null,null,null,{"$f":"IF(D361<>\"\",MIN(D361-MAX($D$32:D361))/MAX($D$32:D361),\"\")","v":""}]
[null,"",null,null,null,null,{"$f":"IF(D362<>\"\",MIN(D362-MAX($D$32:D362))/MAX($D$32:D362),\"\")","v":""}]
[null,"",null,null,null,null,{"$f":"IF(D363<>\"\",MIN(D363-MAX($D$32:D363))/MAX($D$32:D363),\"\")","v":""}]
[null,"",null,null,null,null,{"$f":"IF(D364<>\"\",MIN(D364-MAX($D$32:D364))/MAX($D$32:D364),\"\")","v":""}]
[null,"",null,null,null,null,{"$f":"IF(D365<>\"\",MIN(D365-MAX($D$32:D365))/MAX($D$32:D365),\"\")","v":""}]
[null,"",null,null,null,null,{"$f":"IF(D366<>\"\",MIN(D366-MAX($D$32:D366))/MAX($D$32:D366),\"\")","v":""}]
[null,"",null,null,null,null,{"$f":"IF(D367<>\"\",MIN(D367-MAX($D$32:D367))/MAX($D$32:D367),\"\")","v":""}]
[null,"",null,null,null,null,{"$f":"IF(D368<>\"\",MIN(D368-MAX($D$32:D368))/MAX($D$32:D368),\"\")","v":""}]
[null,"",null,null,null,null,{"$f":"IF(D369<>\"\",MIN(D369-MAX($D$32:D369))/MAX($D$32:D369),\"\")","v":""}]
[null,"",null,null,null,null,{"$f":"IF(D370<>\"\",MIN(D370-MAX($D$32:D370))/MAX($D$32:D370),\"\")","v":""}]
[null,"",null,null,null,null,{"$f":"IF(D371<>\"\",MIN(D371-MAX($D$32:D371))/MAX($D$32:D371),\"\")","v":""}]
[null,"",null,null,null,null,{"$f":"IF(D372<>\"\",MIN(D372-MAX($D$32:D372))/MAX($D$32:D372),\"\")","v":""}]
[null,"",null,null,null,null,{"$f":"IF(D373<>\"\",MIN(D373-MAX($D$32:D373))/MAX($D$32:D373),\"\")","v":""}]
[null,"",null,null,null,null,{"$f":"IF(D374<>\"\",MIN(D374-MAX($D$32:D374))/MAX($D$32:D374),\"\")","v":""}]
[null,"",null,null,null,null,{"$f":"IF(D375<>\"\",MIN(D375-MAX($D$32:D375))/MAX($D$32:D375),\"\")","v":""}]
[null,"",null,null,null,null,{"$f":"IF(D376<>\"\",MIN(D376-MAX($D$32:D376))/MAX($D$32:D376),\"\")","v":""}]
[null,"",null,null,null,null,{"$f":"IF(D377<>\"\",MIN(D377-MAX($D$32:D377))/MAX($D$32:D377),\"\")","v":""}]
[null,"",null,null,null,null,{"$f":"IF(D378<>\"\",MIN(D378-MAX($D$32:D378))/MAX($D$32:D378),\"\")","v":""}]
[null,"",null,null,null,null,{"$f":"IF(D379<>\"\",MIN(D379-MAX($D$32:D379))/MAX($D$32:D379),\"\")","v":""}]
[null,"",null,null,null,null,{"$f":"IF(D380<>\"\",MIN(D380-MAX($D$32:D380))/MAX($D$32:D380),\"\")","v":""}]
[null,"",null,null,null,null,{"$f":"IF(D381<>\"\",MIN(D381-MAX($D$32:D381))/MAX($D$32:D381),\"\")","v":""}]
[null,"",null,null,null,null,{"$f":"IF(D382<>\"\",MIN(D382-MAX($D$32:D382))/MAX($D$32:D382),\"\")","v":""}]
[null,"",null,null,null,null,{"$f":"IF(D383<>\"\",MIN(D383-MAX($D$32:D383))/MAX($D$32:D383),\"\")","v":""}]
[null,"",null,null,null,null,{"$f":"IF(D384<>\"\",MIN(D384-MAX($D$32:D384))/MAX($D$32:D384),\"\")","v":""}]
[null,"",null,null,null,null,{"$f":"IF(D385<>\"\",MIN(D385-MAX($D$32:D385))/MAX($D$32:D385),\"\")","v":""}]
[null,"",null,null,null,null,{"$f":"IF(D386<>\"\",MIN(D386-MAX($D$32:D386))/MAX($D$32:D386),\"\")","v":""}]
[null,"",null,null,null,null,{"$f":"IF(D387<>\"\",MIN(D387-MAX($D$32:D387))/MAX($D$32:D387),\"\")","v":""}]
[null,"",null,null,null,null,{"$f":"IF(D388<>\"\",MIN(D388-MAX($D$32:D388))/MAX($D$32:D388),\"\")","v":""}]
[null,"",null,null,null,null,{"$f":"IF(D389<>\"\",MIN(D389-MAX($D$32:D389))/MAX($D$32:D389),\"\")","v":""}]
[null,"",null,null,null,null,{"$f":"IF(D390<>\"\",MIN(D390-MAX($D$32:D390))/MAX($D$32:D390),\"\")","v":""}]
[null,"",null,null,null,null,{"$f":"IF(D391<>\"\",MIN(D391-MAX($D$32:D391))/MAX($D$32:D391),\"\")","v":""}]
[null,"",null,null,null,null,{"$f":"IF(D392<>\"\",MIN(D392-MAX($D$32:D392))/MAX($D$32:D392),\"\")","v":""}]
[null,"",null,null,null,null,{"$f":"IF(D393<>\"\",MIN(D393-MAX($D$32:D393))/MAX($D$32:D393),\"\")","v":""}]
[null,"",null,null,null,null,{"$f":"IF(D394<>\"\",MIN(D394-MAX($D$32:D394))/MAX($D$32:D394),\"\")","v":""}]
[null,"",null,null,null,null,{"$f":"IF(D395<>\"\",MIN(D395-MAX($D$32:D395))/MAX($D$32:D395),\"\")","v":""}]
[null,"",null,null,null,null,{"$f":"IF(D396<>\"\",MIN(D396-MAX($D$32:D396))/MAX($D$32:D396),\"\")","v":""}]
[null,"",null,null,null,null,{"$f":"IF(D397<>\"\",MIN(D397-MAX($D$32:D397))/MAX($D$32:D397),\"\")","v":""}]
[null,"",null,null,null,null,{"$f":"IF(D398<>\"\",MIN(D398-MAX($D$32:D398))/MAX($D$32:D398),\"\")","v":""}]
[null,"",null,null,null,null,{"$f":"IF(D399<>\"\",MIN(D399-MAX($D$32:D399))/MAX($D$32:D399),\"\")","v":""}]
[null,null,null,null,null,null,{"$f":"IF(D400<>\"\",MIN(D400-MAX($D$32:D400))/MAX($D$32:D400),\"\")","v":""}]

{"sheet":"Sheet2","index":1,"n_rows":16,"n_cols":27,"rows_kept":16,"cut":false,"hidden":false,"merged":[[0,0,0,4],[2,3,3,3],[5,0,6,0],[5,3,6,3],[1,0,1,1],[1,2,12,2],[1,3,1,4],[2,4,3,4],[5,1,6,1],[5,4,6,4]]}
["التقرير النهائي",null,null,null,null,"معلومات الاختبار",null,null,null,null,null,null,null,null,null,null,null,null,null,null,null,null,null,null,null,null,"يجب تجربة 100 صفقة على الأقل للحصول على التقرير: you have to test at least 100 trade to get the report "]
["احصائيات",null,null,{"$f":"Sheet2!$F$1 &\" :\"& Sheet2!$F$2","v":"معلومات الاختبار :اختبار غير تراكمي ,وقف ثابت"},null,{"$f":"IF(Sheet1!G1=\"\",IF(Sheet1!A6<>\"X\",\"اختبار غير تراكمي ,وقف ثابت\",\"اختبار غير تراكمي وقف متحرك\"),IF(Sheet1!A6<>\"X\",\"اختبار تراكمي وقف ثابت\",\"اختبار تراكمي وقف متحرك\"))","v":"اختبار غير تراكمي ,وقف ثابت"},{"$f":"IF(Sheet1!G1=\"\",IF(Sheet1!A6<>\"X\",\"not accu not trail\",\"not accu trail\"),IF(Sheet1!A6<>\"X\",\"acc not trail\",\"acc trail\"))","v":"not accu not trail"}]
[{"$f":"IF(A1<>\"\",#REF!,\"\")","v":{"$error":"#REF!"}},"عدد الصفقات",null,{"$f":"IF(A1<>\"\",#REF!,\"\")","v":{"$error":"#REF!"}},"وصف الاستراتيجية"]
[{"$f":"IF(A1<>\"\",#REF!,\"\")","v":{"$error":"#REF!"}},"عدد الصفقات الرابحة"]
[{"$f":"IF(A1<>\"\",#REF!,\"\")","v":{"$error":"#REF!"}},"عدد الصفقات الخاسرة",null,{"$f":"IF(A1<>\"\",#REF!,\"\")","v":{"$error":"#REF!"}},"السوق"]
[null,"اقصى مرات ربح متوالي",null,{"$f":"IF(A1<>\"\",#REF!,\"\")","v":{"$error":"#REF!"}},"الرمز",null,null,null,null,null,0]
[]
[null,"اقصى مرات خسارة متوالية",null,{"$f":"IF(A1<>\"\",#REF!,\"\")","v":{"$error":"#REF!"}},"الفريم",null,null,null,null,null,0]
[{"$f":"IF(A1<>\"\",#REF!,\"\")","v":{"$error":"#REF!"}},"راس مال نهائي (غير تراكمي)",null,{"$f":"IF(A1<>\"\",#REF!,\"\")","v":{"$error":"#REF!"}},"راس المال الابتدائي"]
[{"$f":"IF(A1<>\"\",#REF!,\"\")","v":{"$error":"#REF!"}},"ربح|خسارة",null,{"$f":"IF(A1<>\"\",#REF!,\"\")","v":{"$error":"#REF!"}},"نسبة المخاطرة للعائد ثابتة"]
[{"$f":"IF(A1<>\"\",#REF!,\"\")","v":{"$error":"#REF!"}},"نسبة ربح | خسارة",null,"00:00:00","المخاطرة"]
[{"$f":"IF(A1<>\"\",#REF!,\"\")","v":{"$error":"#REF!"}},"أقصى نسبة تراجع",null,0,"مدة الاختبار بالأيام"]
[null,"نسبة نجاح الاستراتيجية",null,0,"نوع الدخول"]
[]
[0]
[0]

{"sheet":"Sheet3","index":2,"n_rows":20,"n_cols":11,"rows_kept":20,"cut":false,"hidden":false,"merged":[[19,1,20,4],[0,0,1,0],[0,1,1,1],[0,7,2,11],[0,2,1,6],[19,8,20,8],[19,9,20,11],[19,7,20,7],[19,6,20,6],[19,5,20,5]]}
[null,null,"نسبة التراجع drawdown"]
[]
[]
[]
[]
[null,null,null,null,null,null,null,null,null,null,0]
[]
[null,null,null,null,null,null,null,null,null,null,0]
[]
[]
[]
[]
[]
[]
[0]
[0]
[]
[]
[]
[null,{"$f":"IF(I20<>0,\"لتعويض الخسارة والرجوع لأعلى قيمة وصلها الحساب\",\"\")","v":""},null,null,null,{"$f":"IF(I20<>0,-I20/(1+I20),\"\")","v":""},{"$f":"IF(I20<>0,\"تحتاج\",\"\")","v":""},{"$f":"IF(I20<>0,IF(I20>=-20%,\"نسبة جيدة\",IF(I20<-30%,\"نسبة سيئة\",\"نسبة متوسطة\")),\"\")","v":""},{"$f":"Sheet1!A21","v":0},"اقصى نسبة تراجع"]